BEGIN:VCALENDAR
VERSION:2.0
PRODID:-//ChamberMaster//Event Calendar 2.0//EN
METHOD:PUBLISH
X-PUBLISHED-TTL:P3D
REFRESH-INTERVAL:P3D
CALSCALE:GREGORIAN
BEGIN:VEVENT
DTSTART;VALUE=DATE:20190127
DTEND;VALUE=DATE:20190130
TRANSP:TRANSPARENT
X-MICROSOFT-CDO-ALLDAYEVENT:TRUE
SUMMARY:IAAPA FEC Summit 2019
DESCRIPTION:Join us for the IAAPA FEC Summit 2019\,  held in Austin\, Texas at the Hyatt Regency Lost Pines Resort from Jan. 27-29\, 2019\, with optional post-tour on Jan. 30. Family entertainment center (FEC) operators from around the globe gather at this yearly event to learn the latest best practices and share ideas. Stay tuned registration opens August 2018.\nWhy Attend\nIAAPA FEC Summit 2019 is an educational event for FEC owners and operators with a specific focus on building the skill sets necessary for success in the attractions industry. The seminars and sessions are particularly relevant to entrepreneurs. \n\n \nWhat to Expect\nExperience three days of learning and fun! Start preparing now registration requires approval\; facility operators will learn their status within 48 hours of registration. There will be a limited number of non-sponsor manufacturer\, supplier\, and consultant registrations available.
X-ALT-DESC;FMTTYPE=text/html:<span style="color: rgb(0\, 0\, 0)\; font-family: Arial\, Helvetica\, sans-serif\; font-size: 14px\;">Join us for the IAAPA FEC Summit 2019\,&nbsp\; held in Austin\, Texas at the Hyatt Regency Lost Pines Resort from Jan. 27-29\, 2019\, with optional post-tour on Jan. 30. Family entertainment center (FEC) operators from around the globe gather at this yearly event to learn the latest best practices and share ideas. Stay tuned&mdash\;registration opens August 2018.</span>\n<h3 style="color: rgb(205\, 6\, 133)\; font-weight: bold\; font-size: 12px\; font-family: Arial\, sans-serif\;"><span style="font-size: 14px\;">Why Attend</span></h3>\n<span style="color: rgb(0\, 0\, 0)\; font-family: Arial\, Helvetica\, sans-serif\; font-size: 14px\;">IAAPA FEC Summit 2019 is an educational event for FEC owners and operators with a specific focus on building the skill sets necessary for success in the attractions industry. The seminars and sessions are particularly relevant to entrepreneurs.&nbsp\;</span><br />\n&nbsp\;\n<h3 style="color: rgb(205\, 6\, 133)\; font-weight: bold\; font-size: 12px\; font-family: Arial\, sans-serif\;"><span style="font-size: 14px\;">What to Expect</span></h3>\n<span style="color: rgb(0\, 0\, 0)\; font-family: Arial\, Helvetica\, sans-serif\; font-size: 14px\;">Experience three days of learning and fun! Start preparing now&mdash\;registration requires approval\; facility operators will learn their status within 48 hours of registration. There will be a limited number of non-sponsor manufacturer\, supplier\, and consultant registrations available.</span>
LOCATION:The IAAPA FEC Summit will be held at the Hyatt Regency Lost Pines Resort & Spa in Austin\, Texas.
UID:e.9242.34
SEQUENCE:3
DTSTAMP:20260423T113926Z
URL:http://members.neaapa.com/events/details/iaapa-fec-summit-2019-34
END:VEVENT

END:VCALENDAR
